BEGIN:VCALENDAR
VERSION:2.0
PRODID:-//wp-events-plugin.com//7.2.3.1//EN
BEGIN:VEVENT
UID:62@vrakascpas.com
DTSTART:20201208T113000Z
DTEND:20201208T130000Z
DTSTAMP:20201105T232331Z
URL:https://vrakascpas.com/events/virtual-session-on-1099s/
SUMMARY:Virtual Learning Session on Form 1099-MISC and New 1099-NEC
DESCRIPTION:Join Small Business Accounting Principal\, Mary Ellen Michaelso
 n\, for a virtual learning session on Forms 1099-MISC and New 1099-NEC. T
 he topics covered during the session will include:\n\n\n 	Reporting Income
  Requirements\n 	Recipients\n 	Deadlines for filing\n 	Q&amp\;A\n\nYou wil
 l receive the zoom link after you register for the event. 
CATEGORIES:Virtual Sessions
END:VEVENT
END:VCALENDAR