BEGIN:VCALENDAR
VERSION:2.0
PRODID:-//wp-events-plugin.com//7.2.3.1//EN
BEGIN:VEVENT
UID:61@vrakascpas.com
DTSTART:20201215T113000Z
DTEND:20201215T130000Z
DTSTAMP:20201111T224009Z
URL:https://vrakascpas.com/events/quickbooks-online-session-via-zoom/
SUMMARY:QuickBooks Online Training Session via Zoom
DESCRIPTION:Join Small Business Accounting Principal\, Mary Ellen Michaelso
 n\, for a QuickBooks Online Session via Zoom.\n\nThe topics covered during
  the session will include:\n\n 	Month-End Procedures\n 	Planning &amp\; Bu
 dgeting\n 	Tips &amp\; Tricks\n 	Q &amp\; A\n\nYou will receive the zoom l
 ink when you register for the event. . 
CATEGORIES:Virtual Sessions
END:VEVENT
END:VCALENDAR