BEGIN:VCALENDAR
VERSION:2.0
PRODID:-//wp-events-plugin.com//7.2.3.1//EN
BEGIN:VEVENT
UID:60@vrakascpas.com
DTSTART:20201203T113000Z
DTEND:20201203T130000Z
DTSTAMP:20201111T014143Z
URL:https://vrakascpas.com/events/quickbooks-desktop-session-via-zoom/
SUMMARY:QuickBooks Desktop Training Session via Zoom
DESCRIPTION:Join Small Business Accounting Principal\, Christina Binagi\, f
 or a QuickBooks Desktop Session via Zoom.\n\nThe topics covered during the
  session will include:\n\n 	Planning &amp\; Budgeting\n 	Bank Feeds\n 	Inv
 entory &amp\; Job Costing\n 	Q &amp\; A\n\nYou will receive the zoom link 
 when you register for the event. \n\n&nbsp\;
CATEGORIES:Virtual Sessions
END:VEVENT
END:VCALENDAR