BEGIN:VCALENDAR
VERSION:2.0
PRODID:-//wp-events-plugin.com//7.2.3.1//EN
BEGIN:VEVENT
UID:127@vrakascpas.com
DTSTART;TZID=America/Chicago;VALUE=DATE:20250317
DTEND;TZID=America/Chicago;VALUE=DATE:20250318
DTSTAMP:20250123T230147Z
URL:https://vrakascpas.com/events/business-business-types-taxes-due-2/
SUMMARY:BUSINESS: Business Types Taxes Due
DESCRIPTION:
END:VEVENT
BEGIN:VTIMEZONE
TZID:America/Chicago
X-LIC-LOCATION:America/Chicago
BEGIN:DAYLIGHT
DTSTART:20250309T030000
TZOFFSETFROM:-0600
TZOFFSETTO:-0500
TZNAME:CDT
END:DAYLIGHT
END:VTIMEZONE
END:VCALENDAR